BEGIN:VCALENDAR
VERSION:2.0
PRODID:icalendar-ruby
CALSCALE:GREGORIAN
METHOD:PUBLISH
X-WR-CALNAME:Liga De Veteranos Calendar
BEGIN:VTIMEZONE
TZID:America/New_York
BEGIN:DAYLIGHT
DTSTART:20260308T030000
TZOFFSETFROM:-0500
TZOFFSETTO:-0400
RRULE:FREQ=YEARLY;BYDAY=2SU;BYMONTH=3
TZNAME:EDT
END:DAYLIGHT
BEGIN:STANDARD
DTSTART:20261101T010000
TZOFFSETFROM:-0400
TZOFFSETTO:-0500
RRULE:FREQ=YEARLY;BYDAY=1SU;BYMONTH=11
TZNAME:EST
END:STANDARD
END:VTIMEZONE
BEGIN:VEVENT
DTSTAMP:20260419T132129Z
UID:game-144424632
DTSTART;TZID=America/New_York:20260319T190000
DTEND;TZID=America/New_York:20260319T200000
DESCRIPTION:Titans FC vs Olympia FC @ Lithia & Driveway 10
LOCATION:Lithia & Driveway 10
SUMMARY:Titans FC vs Olympia FC
URL;VALUE=URI:https://www.southernoregonsoccerleague.com/sites/95181/games/
 144424632
END:VEVENT
BEGIN:VEVENT
DTSTAMP:20260419T132129Z
UID:game-144424634
DTSTART;TZID=America/New_York:20260320T180000
DTEND;TZID=America/New_York:20260320T190000
DESCRIPTION:Titans FC vs Arsenal FC @ Lithia & Driveway 10
LOCATION:Lithia & Driveway 10
SUMMARY:Titans FC vs Arsenal FC
URL;VALUE=URI:https://www.southernoregonsoccerleague.com/sites/95181/games/
 144424634
END:VEVENT
BEGIN:VEVENT
DTSTAMP:20260419T132129Z
UID:game-144424640
DTSTART;TZID=America/New_York:20260321T190000
DTEND;TZID=America/New_York:20260321T200000
DESCRIPTION:Black Panthers Experience vs Titans FC @ Lithia & Driveway 10
LOCATION:Lithia & Driveway 10
SUMMARY:Black Panthers Experience vs Titans FC
URL;VALUE=URI:https://www.southernoregonsoccerleague.com/sites/95181/games/
 144424640
END:VEVENT
BEGIN:VEVENT
DTSTAMP:20260419T132129Z
UID:game-144424644
DTSTART;TZID=America/New_York:20260322T190000
DTEND;TZID=America/New_York:20260322T200000
DESCRIPTION:Titans FC vs Academicos FC @ Lithia & Driveway 10
LOCATION:Lithia & Driveway 10
SUMMARY:Titans FC vs Academicos FC
URL;VALUE=URI:https://www.southernoregonsoccerleague.com/sites/95181/games/
 144424644
END:VEVENT
BEGIN:VEVENT
DTSTAMP:20260419T132129Z
UID:game-144424648
DTSTART;TZID=America/New_York:20260323T190000
DTEND;TZID=America/New_York:20260323T200000
DESCRIPTION:Titans FC vs Medford FC @ Lithia & Driveway 10
LOCATION:Lithia & Driveway 10
SUMMARY:Titans FC vs Medford FC
URL;VALUE=URI:https://www.southernoregonsoccerleague.com/sites/95181/games/
 144424648
END:VEVENT
BEGIN:VEVENT
DTSTAMP:20260419T132129Z
UID:game-144424652
DTSTART;TZID=America/New_York:20260324T190000
DTEND;TZID=America/New_York:20260324T200000
DESCRIPTION:Remmys FC vs Titans FC @ Lithia & Driveway 10
LOCATION:Lithia & Driveway 10
SUMMARY:Remmys FC vs Titans FC
URL;VALUE=URI:https://www.southernoregonsoccerleague.com/sites/95181/games/
 144424652
END:VEVENT
BEGIN:VEVENT
DTSTAMP:20260419T132129Z
UID:game-144424655
DTSTART;TZID=America/New_York:20260325T180000
DTEND;TZID=America/New_York:20260325T190000
DESCRIPTION:Titans FC vs Quetzeria FC @ Lithia & Driveway 11
LOCATION:Lithia & Driveway 11
SUMMARY:Titans FC vs Quetzeria FC
URL;VALUE=URI:https://www.southernoregonsoccerleague.com/sites/95181/games/
 144424655
END:VEVENT
BEGIN:VEVENT
DTSTAMP:20260419T132129Z
UID:game-144424660
DTSTART;TZID=America/New_York:20260326T190000
DTEND;TZID=America/New_York:20260326T200000
DESCRIPTION:Olympia FC vs Titans FC @ Lithia & Driveway 10
LOCATION:Lithia & Driveway 10
SUMMARY:Olympia FC vs Titans FC
URL;VALUE=URI:https://www.southernoregonsoccerleague.com/sites/95181/games/
 144424660
END:VEVENT
BEGIN:VEVENT
DTSTAMP:20260419T132129Z
UID:game-144424662
DTSTART;TZID=America/New_York:20260327T180000
DTEND;TZID=America/New_York:20260327T190000
DESCRIPTION:Titans FC vs Arsenal FC @ Lithia & Driveway 10
LOCATION:Lithia & Driveway 10
SUMMARY:Titans FC vs Arsenal FC
URL;VALUE=URI:https://www.southernoregonsoccerleague.com/sites/95181/games/
 144424662
END:VEVENT
BEGIN:VEVENT
DTSTAMP:20260419T132129Z
UID:game-144424668
DTSTART;TZID=America/New_York:20260328T190000
DTEND;TZID=America/New_York:20260328T200000
DESCRIPTION:Black Panthers Experience vs Titans FC @ Lithia & Driveway 10
LOCATION:Lithia & Driveway 10
SUMMARY:Black Panthers Experience vs Titans FC
URL;VALUE=URI:https://www.southernoregonsoccerleague.com/sites/95181/games/
 144424668
END:VEVENT
BEGIN:VEVENT
DTSTAMP:20260419T132129Z
UID:game-144424672
DTSTART;TZID=America/New_York:20260329T190000
DTEND;TZID=America/New_York:20260329T200000
DESCRIPTION:Academicos FC vs Titans FC @ Lithia & Driveway 10
LOCATION:Lithia & Driveway 10
SUMMARY:Academicos FC vs Titans FC
URL;VALUE=URI:https://www.southernoregonsoccerleague.com/sites/95181/games/
 144424672
END:VEVENT
BEGIN:VEVENT
DTSTAMP:20260419T132129Z
UID:game-144424676
DTSTART;TZID=America/New_York:20260330T190000
DTEND;TZID=America/New_York:20260330T200000
DESCRIPTION:Titans FC vs Medford FC @ Lithia & Driveway 10
LOCATION:Lithia & Driveway 10
SUMMARY:Titans FC vs Medford FC
URL;VALUE=URI:https://www.southernoregonsoccerleague.com/sites/95181/games/
 144424676
END:VEVENT
BEGIN:VEVENT
DTSTAMP:20260419T132129Z
UID:game-144424680
DTSTART;TZID=America/New_York:20260331T190000
DTEND;TZID=America/New_York:20260331T200000
DESCRIPTION:Remmys FC vs Titans FC @ Lithia & Driveway 10
LOCATION:Lithia & Driveway 10
SUMMARY:Remmys FC vs Titans FC
URL;VALUE=URI:https://www.southernoregonsoccerleague.com/sites/95181/games/
 144424680
END:VEVENT
BEGIN:VEVENT
DTSTAMP:20260419T132129Z
UID:game-144424683
DTSTART;TZID=America/New_York:20260401T180000
DTEND;TZID=America/New_York:20260401T190000
DESCRIPTION:Quetzeria FC vs Titans FC @ Lithia & Driveway 11
LOCATION:Lithia & Driveway 11
SUMMARY:Quetzeria FC vs Titans FC
URL;VALUE=URI:https://www.southernoregonsoccerleague.com/sites/95181/games/
 144424683
END:VEVENT
END:VCALENDAR
